BEGIN:VCALENDAR
VERSION:2.0
PRODID:spatie/icalendar-generator
DESCRIPTION:Veranstaltungen von Praxis Andrea Arndt
X-WR-CALDESC:Veranstaltungen von Praxis Andrea Arndt
REFRESH-INTERVAL;VALUE=DURATION:PT1440M
X-PUBLISHED-TTL:PT1440M
BEGIN:VTIMEZONE
TZID:Etc/GMT+0
BEGIN:STANDARD
DTSTART:20250427T193000Z
TZOFFSETFROM:+0000
TZOFFSETTO:+0000
END:STANDARD
END:VTIMEZONE
BEGIN:VTIMEZONE
TZID:UTC
BEGIN:STANDARD
DTSTART:20250729T001618Z
TZOFFSETFROM:+0000
TZOFFSETTO:+0000
END:STANDARD
END:VTIMEZONE
BEGIN:VEVENT
UID:226-219
DTSTAMP:20260425T001618Z
SUMMARY:\"Auch alte Wunden können heilen\" - Selbsthilfegruppe in der Prax
 is
LOCATION:
ORGANIZER;CN=arndt-praxis-18:MAILTO:a.b.arndt@web.de
DTSTART;TZID=Etc/GMT+0:20260122T193000
DTEND;TZID=Etc/GMT+0:20260122T210000
X-ALT-DESC;FMTTYPE=TEXT/HTML:Selbsthilfegruppe „Auch alte Wunden können 
 heilen“ In einem liebevollen\, geschützten Rahmen lade ich Menschen ein
 \, die frühe Bindungsverletzungen\, ein Entwicklungstrauma oder belastend
 e\, toxische Beziehungen erlebt haben. Gemeinsam schaffen wir einen Ort\, 
 an dem Sicherheit spürbar werden darf – Sicherheit im Sinne von sich in
  sich selbst und sich auch mit anderen beschützt\, behütet und geborgen&amp;
 hellip\;
CATEGORIES:General
URL;VALUE=URI:https://praxis-arndt-muenster.de/mc-events/auch-alte-wunden-k
 oennen-heilen-selbsthilfegruppe-in-der-praxis
METHOD:PUBLISH
END:VEVENT
END:VCALENDAR