BEGIN:VCALENDAR
VERSION:2.0
PRODID:spatie/icalendar-generator
DESCRIPTION:Veranstaltungen von Praxis Andrea Arndt
X-WR-CALDESC:Veranstaltungen von Praxis Andrea Arndt
REFRESH-INTERVAL;VALUE=DURATION:PT1440M
X-PUBLISHED-TTL:PT1440M
BEGIN:VTIMEZONE
TZID:Etc/GMT+0
BEGIN:STANDARD
DTSTART:20241102T180000Z
TZOFFSETFROM:+0000
TZOFFSETTO:+0000
END:STANDARD
END:VTIMEZONE
BEGIN:VTIMEZONE
TZID:UTC
BEGIN:STANDARD
DTSTART:20250728T002004Z
TZOFFSETFROM:+0000
TZOFFSETTO:+0000
END:STANDARD
END:VTIMEZONE
BEGIN:VEVENT
UID:204-199
DTSTAMP:20260424T002004Z
SUMMARY:\"Seelenbeziehungen\"\, interaktives Webinar
LOCATION:
ORGANIZER;CN=arndt-praxis-18:MAILTO:a.b.arndt@web.de
DTSTART;TZID=Etc/GMT+0:20250730T180000
DTEND;TZID=Etc/GMT+0:20250730T193000
X-ALT-DESC;FMTTYPE=TEXT/HTML:Seit Jahrtausenden kennen verschiedene Kulture
 n die ganz besondere Beziehung im Leben eines Menschen\, die durch ihre vi
 elfältigen Herausforderungen dafür da ist\, die Persönlichkeit und die 
 gesamte Entwicklung der Betroffenen entscheidend zu beeinflussen. Dieses W
 ebinar wird Ihnen aufzeigen\, dass die Begriffe „Dualseele“ oder „Zw
 illingsseele“ nur einen Teil der alten Weisheiten aufnehmen…Dabei geht
  es um so viel&amp;hellip\;
CATEGORIES:General
URL;VALUE=URI:https://praxis-arndt-muenster.de/mc-events/seelenbeziehungen-
 interaktives-webinar-3
METHOD:PUBLISH
END:VEVENT
END:VCALENDAR