BEGIN:VCALENDAR
VERSION:2.0
PRODID:spatie/icalendar-generator
DESCRIPTION:Veranstaltungen von Praxis Andrea Arndt
X-WR-CALDESC:Veranstaltungen von Praxis Andrea Arndt
REFRESH-INTERVAL;VALUE=DURATION:PT1440M
X-PUBLISHED-TTL:PT1440M
BEGIN:VTIMEZONE
TZID:Etc/GMT+0
BEGIN:STANDARD
DTSTART:20241201T180000Z
TZOFFSETFROM:+0000
TZOFFSETTO:+0000
END:STANDARD
END:VTIMEZONE
BEGIN:VTIMEZONE
TZID:UTC
BEGIN:STANDARD
DTSTART:20250727T231810Z
TZOFFSETFROM:+0000
TZOFFSETTO:+0000
END:STANDARD
END:VTIMEZONE
BEGIN:VEVENT
UID:202-197
DTSTAMP:20260423T231810Z
SUMMARY:Höchstsensibilität HSP(+)\, interaktives Webinar
LOCATION:
ORGANIZER;CN=arndt-praxis-18:MAILTO:a.b.arndt@web.de
DTSTART;TZID=Etc/GMT+0:20250828T180000
DTEND;TZID=Etc/GMT+0:20250828T193000
X-ALT-DESC;FMTTYPE=TEXT/HTML:Empathen\, Hochsensitive\, HSP \"hoch X\"...Es
  existiert noch kein passender und allgemein anerkannter Ausdruck für die
 se besonders sensiblen Menschen unter den HSP. Es sind Menschen\, die auch
  im energetischen Bereich besondere Begabungen aufweisen. Unter den Highly
  sensitive Person (HSP) machen sie tatsächlich noch einmal eine Minderhei
 t aus. Schätzungen gehen davon aus\, dass es höchstens 3 %&amp;hellip\;
CATEGORIES:General
URL;VALUE=URI:https://praxis-arndt-muenster.de/mc-events/hoechstsensibilita
 et-hsp-interaktives-webinar-2
METHOD:PUBLISH
END:VEVENT
END:VCALENDAR