BEGIN:VCALENDAR
VERSION:2.0
PRODID:spatie/icalendar-generator
DESCRIPTION:Veranstaltungen von Praxis Andrea Arndt
X-WR-CALDESC:Veranstaltungen von Praxis Andrea Arndt
REFRESH-INTERVAL;VALUE=DURATION:PT1440M
X-PUBLISHED-TTL:PT1440M
BEGIN:VTIMEZONE
TZID:Etc/GMT+0
BEGIN:STANDARD
DTSTART:20241104T180000Z
TZOFFSETFROM:+0000
TZOFFSETTO:+0000
END:STANDARD
END:VTIMEZONE
BEGIN:VTIMEZONE
TZID:UTC
BEGIN:STANDARD
DTSTART:20250727T204800Z
TZOFFSETFROM:+0000
TZOFFSETTO:+0000
END:STANDARD
END:VTIMEZONE
BEGIN:VEVENT
UID:200-195
DTSTAMP:20260423T204800Z
SUMMARY:„Bin ich hochsensibel?“ interaktives Webinar
LOCATION:
ORGANIZER;CN=arndt-praxis-18:MAILTO:a.b.arndt@web.de
DTSTART;TZID=Etc/GMT+0:20250801T180000
DTEND;TZID=Etc/GMT+0:20250801T193000
X-ALT-DESC;FMTTYPE=TEXT/HTML:Dieses interaktive Webinar ist für Anfänger 
 wie für Fortgeschrittene ausgelegt. Es enthält Informationen\, die Sie s
 o aufbereitet nicht in einem einzelnen Buch zu finden sind. Interdisziplin
 är zeige ich auf\, was Hochsensibilität ist\, wie wissenschaftlich diese
 s Temperamentsmerkmal wirklich ist\, woran ich Hochsensibilität erkenne\,
  womit sie verwechselt (!) werden kann\, womit sie meist zusammen auftritt
  (oder eben&amp;hellip\;
CATEGORIES:General
URL;VALUE=URI:https://praxis-arndt-muenster.de/mc-events/bin-ich-hochsensib
 el-interaktives-webinar-3
METHOD:PUBLISH
END:VEVENT
END:VCALENDAR