BEGIN:VCALENDAR
VERSION:2.0
PRODID:spatie/icalendar-generator
DESCRIPTION:Veranstaltungen von Praxis Andrea Arndt
X-WR-CALDESC:Veranstaltungen von Praxis Andrea Arndt
REFRESH-INTERVAL;VALUE=DURATION:PT1440M
X-PUBLISHED-TTL:PT1440M
BEGIN:VTIMEZONE
TZID:Etc/GMT+0
BEGIN:STANDARD
DTSTART:20241130T180000Z
TZOFFSETFROM:+0000
TZOFFSETTO:+0000
END:STANDARD
END:VTIMEZONE
BEGIN:VTIMEZONE
TZID:UTC
BEGIN:STANDARD
DTSTART:20250727T152207Z
TZOFFSETFROM:+0000
TZOFFSETTO:+0000
END:STANDARD
END:VTIMEZONE
BEGIN:VEVENT
UID:195-191
DTSTAMP:20260423T152207Z
SUMMARY:\"Hochsensibilität und Überstimulation - mehr als Stress!\" - int
 eraktives Webinar
LOCATION:
ORGANIZER;CN=arndt-praxis-18:MAILTO:a.b.arndt@web.de
DTSTART;TZID=Etc/GMT+0:20250827T180000
DTEND;TZID=Etc/GMT+0:20250827T193000
X-ALT-DESC;FMTTYPE=TEXT/HTML:Wenn mir alles einfach zu viel wird!“ – 
 „Ich kann nicht mehr!“ Warum scheint der Alltag für Hochsensible manc
 hmal so schwierig? Was kann ich dagegen tun und wie kann ich der Überstim
 ulation vorbeugen? Dieses Webinar befasst sich ausführlich mit der Übers
 timulation\, die nicht nur (!) Stress bedeutet: Es behandelt die Themen: W
 as bedeutet Überstimulation medizinisch?&amp;hellip\;
CATEGORIES:General
URL;VALUE=URI:https://praxis-arndt-muenster.de/mc-events/hochsensibilitaet-
 und-ueberstimulation-mehr-als-stress-interaktives-webinar-2
METHOD:PUBLISH
END:VEVENT
END:VCALENDAR