BEGIN:VCALENDAR
VERSION:2.0
PRODID:spatie/icalendar-generator
DESCRIPTION:Veranstaltungen von Praxis Andrea Arndt
X-WR-CALDESC:Veranstaltungen von Praxis Andrea Arndt
REFRESH-INTERVAL;VALUE=DURATION:PT1440M
X-PUBLISHED-TTL:PT1440M
BEGIN:VTIMEZONE
TZID:Etc/GMT+0
BEGIN:STANDARD
DTSTART:20250308T180000Z
TZOFFSETFROM:+0000
TZOFFSETTO:+0000
END:STANDARD
END:VTIMEZONE
BEGIN:VTIMEZONE
TZID:UTC
BEGIN:STANDARD
DTSTART:20250723T121739Z
TZOFFSETFROM:+0000
TZOFFSETTO:+0000
END:STANDARD
END:VTIMEZONE
BEGIN:VEVENT
UID:187-183
DTSTAMP:20260419T121739Z
SUMMARY:Online - Coaching für Hochsensible (HSP)
LOCATION:
ORGANIZER;CN=arndt-praxis-18:MAILTO:a.b.arndt@web.de
DTSTART;TZID=Etc/GMT+0:20251203T180000
DTEND;TZID=Etc/GMT+0:20251203T193000
X-ALT-DESC;FMTTYPE=TEXT/HTML:Online - Coaching für Hochsensible (HSP) In e
 iner kleinen Runde (höchsten 6 Teilnehmer!) schauen wir uns online gemein
 sam an\, wie Sie sich den Alltag als \"High Sensitive Person\" (HSP) angen
 ehmer gestalten können. Möchten Sie dabei sein? Die Inhalte und Übungen
  sind auf jeden einzelnen Teilnehmer und seine speziellen Herausforderunge
 n ausgerichtet\, so dass jeder Teilnehmer auch&amp;hellip\;
CATEGORIES:General
URL;VALUE=URI:https://praxis-arndt-muenster.de/mc-events/online-coaching-fu
 er-hochsensible-hsp-8
METHOD:PUBLISH
END:VEVENT
END:VCALENDAR