BEGIN:VCALENDAR
VERSION:2.0
PRODID:spatie/icalendar-generator
DESCRIPTION:Veranstaltungen von Praxis Andrea Arndt
X-WR-CALDESC:Veranstaltungen von Praxis Andrea Arndt
REFRESH-INTERVAL;VALUE=DURATION:PT1440M
X-PUBLISHED-TTL:PT1440M
BEGIN:VTIMEZONE
TZID:Etc/GMT+0
BEGIN:STANDARD
DTSTART:20241014T180000Z
TZOFFSETFROM:+0000
TZOFFSETTO:+0000
END:STANDARD
END:VTIMEZONE
BEGIN:VTIMEZONE
TZID:UTC
BEGIN:STANDARD
DTSTART:20250725T225855Z
TZOFFSETFROM:+0000
TZOFFSETTO:+0000
END:STANDARD
END:VTIMEZONE
BEGIN:VEVENT
UID:174-170
DTSTAMP:20260421T225855Z
SUMMARY:\"Hochsensibilität und Überstimulation - mehr als Stress!\" - int
 eraktives Webinar
LOCATION:
ORGANIZER;CN=arndt-praxis-18:MAILTO:a.b.arndt@web.de
DTSTART;TZID=Etc/GMT+0:20250711T180000
DTEND;TZID=Etc/GMT+0:20250711T193000
X-ALT-DESC;FMTTYPE=TEXT/HTML:Hochsensibilität und Überstimulation - inter
 aktives Webinar Wenn mir alles einfach zu viel wird!“ – „Ich kann ni
 cht mehr!“ Warum scheint der Alltag für Hochsensible manchmal so schwie
 rig? Was kann ich dagegen tun und wie kann ich der Überstimulation vorbeu
 gen? Dieses Webinar befasst sich ausführlich mit der Überstimulation\, d
 ie nicht nur (!) Stress bedeutet: Es behandelt&amp;hellip\;
CATEGORIES:General
URL;VALUE=URI:https://praxis-arndt-muenster.de/mc-events/hochsensibilitaet-
 und-ueberstimulation-mehr-als-stress-interaktives-webinar
METHOD:PUBLISH
END:VEVENT
END:VCALENDAR