BEGIN:VCALENDAR
VERSION:2.0
PRODID:spatie/icalendar-generator
DESCRIPTION:Veranstaltungen von Praxis Andrea Arndt
X-WR-CALDESC:Veranstaltungen von Praxis Andrea Arndt
REFRESH-INTERVAL;VALUE=DURATION:PT1440M
X-PUBLISHED-TTL:PT1440M
BEGIN:VTIMEZONE
TZID:Etc/GMT+0
BEGIN:STANDARD
DTSTART:20250206T180000Z
TZOFFSETFROM:+0000
TZOFFSETTO:+0000
END:STANDARD
END:VTIMEZONE
BEGIN:VTIMEZONE
TZID:UTC
BEGIN:STANDARD
DTSTART:20250726T021001Z
TZOFFSETFROM:+0000
TZOFFSETTO:+0000
END:STANDARD
END:VTIMEZONE
BEGIN:VEVENT
UID:172-168
DTSTAMP:20260422T021001Z
SUMMARY:Online - Gesprächskreis HSP\, offene Gesprächsrunde
LOCATION:
ORGANIZER;CN=arndt-praxis-18:MAILTO:a.b.arndt@web.de
DTSTART;TZID=Etc/GMT+0:20251103T180000
DTEND;TZID=Etc/GMT+0:20251103T193000
X-ALT-DESC;FMTTYPE=TEXT/HTML:Online - Gesprächskreis: Highly sensitive per
 son (HSP) - Das Phänomen der Hochsensibilität im Alltag - Tausche dich i
 n diesem Kreis online mit anderen hochsensiblen und feinen Menschen aus un
 d erkenne\, dass es noch andere gibt\, die wie du sind. (moderiert\, Theme
 n bringen die Teilnehmer mit) Die Teilnahme ist kostenfrei. Um eine Spende
  über Paypal wird&amp;hellip\;
CATEGORIES:General
URL;VALUE=URI:https://praxis-arndt-muenster.de/mc-events/online-gespraechsk
 reis-hsp-offene-gespraechsrunde-12
METHOD:PUBLISH
END:VEVENT
END:VCALENDAR