BEGIN:VCALENDAR
VERSION:2.0
PRODID:spatie/icalendar-generator
DESCRIPTION:Veranstaltungen von Praxis Andrea Arndt
X-WR-CALDESC:Veranstaltungen von Praxis Andrea Arndt
REFRESH-INTERVAL;VALUE=DURATION:PT1440M
X-PUBLISHED-TTL:PT1440M
BEGIN:VTIMEZONE
TZID:Etc/GMT+0
BEGIN:STANDARD
DTSTART:20240606T180000Z
TZOFFSETFROM:+0000
TZOFFSETTO:+0000
END:STANDARD
END:VTIMEZONE
BEGIN:VTIMEZONE
TZID:UTC
BEGIN:STANDARD
DTSTART:20250725T230037Z
TZOFFSETFROM:+0000
TZOFFSETTO:+0000
END:STANDARD
END:VTIMEZONE
BEGIN:VEVENT
UID:153-151
DTSTAMP:20260421T230037Z
SUMMARY:Gesprächskreis HSP\, offene Gesprächsrunde\, Praxis (Rosenmontag!
 )\, fällt wegen Straßensperrungen aus (!)
LOCATION:
ORGANIZER;CN=arndt-praxis-18:MAILTO:a.b.arndt@web.de
DTSTART;TZID=Etc/GMT+0:20250303T180000
DTEND;TZID=Etc/GMT+0:20250303T193000
X-ALT-DESC;FMTTYPE=TEXT/HTML:Gesprächskreis: Highly sensitive person (HSP)
  - Das Phänomen der Hochsensibilität im Alltag - Tausche dich in diesem 
 Kreis mit anderen hochsensiblen Menschen aus und erkenne\, dass es noch an
 dere gibt\, die wie du sind. (moderiert\, Themen bringen die Teilnehmer mi
 t) jeden ersten Montag im Monat in meiner Praxis. Mit der Bitte um Anmeld
 ung (keine Teilnahmegebühr) (weitere&amp;hellip\;
CATEGORIES:General
URL;VALUE=URI:https://praxis-arndt-muenster.de/mc-events/gespraechskreis-hs
 p-offene-gespraechsrunde-praxis-rosenmontag-faellt-wegen-strassensperrunge
 n-aus
METHOD:PUBLISH
END:VEVENT
END:VCALENDAR