BEGIN:VCALENDAR
VERSION:2.0
PRODID:spatie/icalendar-generator
DESCRIPTION:Veranstaltungen von Praxis Andrea Arndt
X-WR-CALDESC:Veranstaltungen von Praxis Andrea Arndt
REFRESH-INTERVAL;VALUE=DURATION:PT1440M
X-PUBLISHED-TTL:PT1440M
BEGIN:VTIMEZONE
TZID:Etc/GMT+0
BEGIN:STANDARD
DTSTART:20240913T180000Z
TZOFFSETFROM:+0000
TZOFFSETTO:+0000
END:STANDARD
END:VTIMEZONE
BEGIN:VTIMEZONE
TZID:UTC
BEGIN:STANDARD
DTSTART:20250725T132726Z
TZOFFSETFROM:+0000
TZOFFSETTO:+0000
END:STANDARD
END:VTIMEZONE
BEGIN:VEVENT
UID:147-145
DTSTAMP:20260421T132726Z
SUMMARY:Workshop \"Hochsensibilität und Überstimulation - was kann ich tu
 n?\"\, Praxis
LOCATION:
ORGANIZER;CN=arndt-praxis-18:MAILTO:a.b.arndt@web.de
DTSTART;TZID=Etc/GMT+0:20250610T180000
DTEND;TZID=Etc/GMT+0:20250610T193000
X-ALT-DESC;FMTTYPE=TEXT/HTML:Workshop \"Hochsensibilität und Überstimulat
 ion - was kann ich tun?\" \"Ich kann nicht mehr!\" - Hochsensible Menschen
  sind viel früher gestresst\, wenn sie nicht auf ihre Grenzen achten. In 
 diesem Workshop gebe ich Ihnen konkrete Vorschläge\, wie Sie sich vor Üb
 erstimulation schützen können und was Ihnen helfen kann\, den Alltag als
  HSP besser zu bewältigen. Teilnahmegebühr:&amp;hellip\;
CATEGORIES:General
URL;VALUE=URI:https://praxis-arndt-muenster.de/mc-events/workshop-hochsensi
 bilitaet-und-ueberstimulation-was-kann-ich-tun-praxis-6
METHOD:PUBLISH
END:VEVENT
END:VCALENDAR