BEGIN:VCALENDAR
VERSION:2.0
PRODID:spatie/icalendar-generator
DESCRIPTION:Veranstaltungen von Praxis Andrea Arndt
X-WR-CALDESC:Veranstaltungen von Praxis Andrea Arndt
REFRESH-INTERVAL;VALUE=DURATION:PT1440M
X-PUBLISHED-TTL:PT1440M
BEGIN:VTIMEZONE
TZID:Etc/GMT+0
BEGIN:STANDARD
DTSTART:20240905T180000Z
TZOFFSETFROM:+0000
TZOFFSETTO:+0000
END:STANDARD
END:VTIMEZONE
BEGIN:VTIMEZONE
TZID:UTC
BEGIN:STANDARD
DTSTART:20250725T101711Z
TZOFFSETFROM:+0000
TZOFFSETTO:+0000
END:STANDARD
END:VTIMEZONE
BEGIN:VEVENT
UID:145-143
DTSTAMP:20260421T101711Z
SUMMARY:Gesprächskreis HSP\, offene Gesprächsrunde\, Praxis
LOCATION:
ORGANIZER;CN=arndt-praxis-18:MAILTO:a.b.arndt@web.de
DTSTART;TZID=Etc/GMT+0:20250602T180000
DTEND;TZID=Etc/GMT+0:20250602T193000
X-ALT-DESC;FMTTYPE=TEXT/HTML:Gesprächskreis: Highly sensitive person (HSP)
  - Das Phänomen der Hochsensibilität im Alltag - Tauschen Sie sich in di
 esem Kreis mit anderen hochsensiblen Menschen aus und erkennen Sie\, dass 
 es noch andere gibt\, die wie Sie sind. Monatlich moderierte Veranstaltung
  in meiner Praxis. Keine Teilnahmegebühr (um eine Spende wird gebeten). M
 it der Bitte um Anmeldung hier (weitere&amp;hellip\;
CATEGORIES:General
URL;VALUE=URI:https://praxis-arndt-muenster.de/mc-events/gespraechskreis-hs
 p-offene-gespraechsrunde-praxis-3
METHOD:PUBLISH
END:VEVENT
END:VCALENDAR