BEGIN:VCALENDAR
VERSION:2.0
PRODID:spatie/icalendar-generator
DESCRIPTION:Veranstaltungen von Praxis Andrea Arndt
X-WR-CALDESC:Veranstaltungen von Praxis Andrea Arndt
REFRESH-INTERVAL;VALUE=DURATION:PT1440M
X-PUBLISHED-TTL:PT1440M
BEGIN:VTIMEZONE
TZID:Etc/GMT+0
BEGIN:STANDARD
DTSTART:20240815T180000Z
TZOFFSETFROM:+0000
TZOFFSETTO:+0000
END:STANDARD
END:VTIMEZONE
BEGIN:VTIMEZONE
TZID:UTC
BEGIN:STANDARD
DTSTART:20250725T135511Z
TZOFFSETFROM:+0000
TZOFFSETTO:+0000
END:STANDARD
END:VTIMEZONE
BEGIN:VEVENT
UID:139-137
DTSTAMP:20260421T135511Z
SUMMARY:Coaching für Hochsensible - Gruppe A
LOCATION:
ORGANIZER;CN=arndt-praxis-18:MAILTO:a.b.arndt@web.de
DTSTART;TZID=Etc/GMT+0:20250512T180000
DTEND;TZID=Etc/GMT+0:20250512T193000
X-ALT-DESC;FMTTYPE=TEXT/HTML:Coaching für Hochsensible (HSP) In einer klei
 nen Runde (höchsten 5 Teilnehmer!) schauen wir uns gemeinsam an\, wie Sie
  sich den Alltag als \"High Sensitive Person\" (HSP) angenehmer gestalten 
 können. Möchten Sie dabei sein? Die Inhalte sind auf jeden einzelnen Tei
 lnehmer und seine Herausforderungen ausgerichtet. Jeder Teilnehmer kann un
 mittelbar vom Training\, den Ergebnissen und den Erfolgen&amp;hellip\;
CATEGORIES:General
URL;VALUE=URI:https://praxis-arndt-muenster.de/mc-events/coaching-fuer-hoch
 sensible-gruppe-a-2
METHOD:PUBLISH
END:VEVENT
END:VCALENDAR