BEGIN:VCALENDAR
VERSION:2.0
PRODID:spatie/icalendar-generator
DESCRIPTION:Veranstaltungen von Praxis Andrea Arndt
X-WR-CALDESC:Veranstaltungen von Praxis Andrea Arndt
REFRESH-INTERVAL;VALUE=DURATION:PT1440M
X-PUBLISHED-TTL:PT1440M
BEGIN:VTIMEZONE
TZID:Etc/GMT+0
BEGIN:STANDARD
DTSTART:20240726T180000Z
TZOFFSETFROM:+0000
TZOFFSETTO:+0000
END:STANDARD
END:VTIMEZONE
BEGIN:VTIMEZONE
TZID:UTC
BEGIN:STANDARD
DTSTART:20250725T202006Z
TZOFFSETFROM:+0000
TZOFFSETTO:+0000
END:STANDARD
END:VTIMEZONE
BEGIN:VEVENT
UID:134-132
DTSTAMP:20260421T202006Z
SUMMARY:Workshop \"Hochsensibilität und frühe Bindungsverletzung\" \, Pra
 xis (ausgebucht!\, nächster Termin am 21.05.)
LOCATION:
ORGANIZER;CN=arndt-praxis-18:MAILTO:a.b.arndt@web.de
DTSTART;TZID=Etc/GMT+0:20250422T180000
DTEND;TZID=Etc/GMT+0:20250422T193000
X-ALT-DESC;FMTTYPE=TEXT/HTML:Workshop \"Hochsensibilität und frühe Bindun
 gsverletzung\" (nicht nur für HSP!) Bei einer frühen Bindungsverletzung 
 ist häufig die Regulation unseres Nervensystems in Mitleidenschaft gezoge
 n worden. Wie gelingt eine gesunde Selbstregulation unseres Nervensystems?
  Teilnahmegebühr: 25 Euro Da die Teilnehmerzahl begrenzt ist\, bitte ich 
 um eine Anmeldung Vielen Dank. (weitere Termine siehe Veranstaltungskalend
 er )
CATEGORIES:General
URL;VALUE=URI:https://praxis-arndt-muenster.de/mc-events/workshop-hochsensi
 bilitaet-und-fruehe-bindungsverletzung-praxis-ausgebucht-naechster-termin-
 am-21-05
METHOD:PUBLISH
END:VEVENT
END:VCALENDAR