BEGIN:VCALENDAR
VERSION:2.0
PRODID:spatie/icalendar-generator
DESCRIPTION:Veranstaltungen von Praxis Andrea Arndt
X-WR-CALDESC:Veranstaltungen von Praxis Andrea Arndt
REFRESH-INTERVAL;VALUE=DURATION:PT1440M
X-PUBLISHED-TTL:PT1440M
BEGIN:VTIMEZONE
TZID:Etc/GMT+0
BEGIN:STANDARD
DTSTART:20240712T180000Z
TZOFFSETFROM:+0000
TZOFFSETTO:+0000
END:STANDARD
END:VTIMEZONE
BEGIN:VTIMEZONE
TZID:UTC
BEGIN:STANDARD
DTSTART:20250727T111755Z
TZOFFSETFROM:+0000
TZOFFSETTO:+0000
END:STANDARD
END:VTIMEZONE
BEGIN:VEVENT
UID:130-128
DTSTAMP:20260423T111755Z
SUMMARY:Workshop \"Bin ich hochsensibel?\" \, Praxis
LOCATION:
ORGANIZER;CN=arndt-praxis-18:MAILTO:a.b.arndt@web.de
DTSTART;TZID=Etc/GMT+0:20250408T180000
DTEND;TZID=Etc/GMT+0:20250408T193000
X-ALT-DESC;FMTTYPE=TEXT/HTML:Workshop  \"Bin ich hochsensibel?\" Es kursie
 ren viele verschiedene ungeprüfte Tests und Informationen über das Tempe
 ramentsmerkmal \"highly sensitive person\" (HSP) in den Medien. Dennoch gi
 bt es klare wissenschaftliche Hinweise für dieses außergewöhnliche Phä
 nomenbündel\, welches - unverstanden - zu unnötigen Belastungen in Ihrem
  Leben führen kann\, anstatt es als Gabe zu verstehen. In diesem Workshop
  gebe ich&amp;hellip\;
CATEGORIES:General
URL;VALUE=URI:https://praxis-arndt-muenster.de/mc-events/workshop-bin-ich-h
 ochsensibel-praxis-4
METHOD:PUBLISH
END:VEVENT
END:VCALENDAR