BEGIN:VCALENDAR
VERSION:2.0
PRODID:spatie/icalendar-generator
DESCRIPTION:Veranstaltungen von Praxis Andrea Arndt
X-WR-CALDESC:Veranstaltungen von Praxis Andrea Arndt
REFRESH-INTERVAL;VALUE=DURATION:PT1440M
X-PUBLISHED-TTL:PT1440M
BEGIN:VTIMEZONE
TZID:Etc/GMT+0
BEGIN:STANDARD
DTSTART:20240628T180000Z
TZOFFSETFROM:+0000
TZOFFSETTO:+0000
END:STANDARD
END:VTIMEZONE
BEGIN:VTIMEZONE
TZID:UTC
BEGIN:STANDARD
DTSTART:20250727T163037Z
TZOFFSETFROM:+0000
TZOFFSETTO:+0000
END:STANDARD
END:VTIMEZONE
BEGIN:VEVENT
UID:126-124
DTSTAMP:20260423T163037Z
SUMMARY:Workshop \"Hochsensibilität und frühe Bindungsverletzung\" \, Pra
 xis
LOCATION:
ORGANIZER;CN=arndt-praxis-18:MAILTO:a.b.arndt@web.de
DTSTART;TZID=Etc/GMT+0:20250325T180000
DTEND;TZID=Etc/GMT+0:20250325T193000
X-ALT-DESC;FMTTYPE=TEXT/HTML:Workshop \"Hochsensibilität und frühe Bindun
 gsverletzung\" (nicht nur für HSP!) Bei einer frühen Bindungsverletzung 
 ist häufig die Regulation unseres Nervensystems in Mitleidenschaft gezoge
 n worden. Wie gelingt eine gesunde Selbstregulation unseres Nervensystems?
  Teilnahmegebühr: 25 Euro (ich bitte um Überweisung erst nach der Verans
 taltung) Da die Teilnehmerzahl begrenzt ist\, bitte ich um eine Anmeldung 
 Vielen Dank. Mit der&amp;hellip\;
CATEGORIES:General
URL;VALUE=URI:https://praxis-arndt-muenster.de/mc-events/workshop-hochsensi
 bilitaet-und-fruehe-bindungsverletzung-praxis
METHOD:PUBLISH
END:VEVENT
END:VCALENDAR