BEGIN:VCALENDAR
VERSION:2.0
PRODID:spatie/icalendar-generator
DESCRIPTION:Veranstaltungen von Praxis Andrea Arndt
X-WR-CALDESC:Veranstaltungen von Praxis Andrea Arndt
REFRESH-INTERVAL;VALUE=DURATION:PT1440M
X-PUBLISHED-TTL:PT1440M
BEGIN:VTIMEZONE
TZID:Etc/GMT+0
BEGIN:STANDARD
DTSTART:20240504T180000Z
TZOFFSETFROM:+0000
TZOFFSETTO:+0000
END:STANDARD
END:VTIMEZONE
BEGIN:VTIMEZONE
TZID:UTC
BEGIN:STANDARD
DTSTART:20250728T101041Z
TZOFFSETFROM:+0000
TZOFFSETTO:+0000
END:STANDARD
END:VTIMEZONE
BEGIN:VEVENT
UID:112-110
DTSTAMP:20260424T101041Z
SUMMARY:Coaching - Gruppe C  (nicht nur für HSP)
LOCATION:
ORGANIZER;CN=arndt-praxis-18:MAILTO:a.b.arndt@web.de
DTSTART;TZID=Etc/GMT+0:20250129T180000
DTEND;TZID=Etc/GMT+0:20250129T193000
X-ALT-DESC;FMTTYPE=TEXT/HTML:Coaching für Hochsensible (HSP) Das Temperame
 ntsmerkmal der Hochsensibilität im Alltag gut bewältigen und in der Klei
 ngruppe unter professioneller Begleitung zu je eigenen Lösungen finden\, 
 um die Persönlichkeit dabei entscheidend zu stärken und weiterzuentwicke
 ln. Als Hochsensible brauche ich mich nicht immer der Umwelt anpassen\, ic
 h darf mir die Umwelt suchen\, die zu mir passt!\"     (Klientin\, 36)
 &amp;hellip\;
CATEGORIES:General
URL;VALUE=URI:https://praxis-arndt-muenster.de/mc-events/coaching-gruppe-c-
 nicht-nur-fuer-hsp-2
METHOD:PUBLISH
END:VEVENT
END:VCALENDAR