BEGIN:VCALENDAR
VERSION:2.0
PRODID:spatie/icalendar-generator
DESCRIPTION:Veranstaltungen von Praxis Andrea Arndt
X-WR-CALDESC:Veranstaltungen von Praxis Andrea Arndt
REFRESH-INTERVAL;VALUE=DURATION:PT1440M
X-PUBLISHED-TTL:PT1440M
BEGIN:VTIMEZONE
TZID:Etc/GMT+0
BEGIN:STANDARD
DTSTART:20250126T180000Z
TZOFFSETFROM:+0000
TZOFFSETTO:+0000
END:STANDARD
END:VTIMEZONE
BEGIN:VTIMEZONE
TZID:UTC
BEGIN:STANDARD
DTSTART:20250728T122436Z
TZOFFSETFROM:+0000
TZOFFSETTO:+0000
END:STANDARD
END:VTIMEZONE
BEGIN:VEVENT
UID:215-208
DTSTAMP:20260424T122436Z
SUMMARY:Höchstsensibilität HSP(+)\, interaktives Webinar
LOCATION:
ORGANIZER;CN=arndt-praxis-18:MAILTO:a.b.arndt@web.de
DTSTART;TZID=Etc/GMT+0:20251023T180000
DTEND;TZID=Etc/GMT+0:20251023T193000
X-ALT-DESC;FMTTYPE=TEXT/HTML:Höchstsensibilität – HSP(+) - interaktives
  Webinar Text: Empathen\, Hochsensitive\, HSP \"hoch X\"...Es existiert no
 ch kein passender und allgemein anerkannter Ausdruck für diese besonders 
 sensiblen Menschen unter den HSP. Es sind Menschen\, die auch im energetis
 chen Bereich besondere Begabungen aufweisen. Unter den Highly sensitive Pe
 rson (HSP) machen sie tatsächlich noch einmal eine Minderheit aus. Schät
 zungen gehen&amp;hellip\;
CATEGORIES:General
URL;VALUE=URI:https://praxis-arndt-muenster.de/mc-events/hoechstsensibilita
 et-hsp-interaktives-webinar-4
METHOD:PUBLISH
END:VEVENT
END:VCALENDAR