BEGIN:VCALENDAR
VERSION:2.0
PRODID:spatie/icalendar-generator
DESCRIPTION:Veranstaltungen von Praxis Andrea Arndt
X-WR-CALDESC:Veranstaltungen von Praxis Andrea Arndt
REFRESH-INTERVAL;VALUE=DURATION:PT1440M
X-PUBLISHED-TTL:PT1440M
BEGIN:VTIMEZONE
TZID:Etc/GMT+0
BEGIN:STANDARD
DTSTART:20250104T180000Z
TZOFFSETFROM:+0000
TZOFFSETTO:+0000
END:STANDARD
END:VTIMEZONE
BEGIN:VTIMEZONE
TZID:UTC
BEGIN:STANDARD
DTSTART:20250728T083233Z
TZOFFSETFROM:+0000
TZOFFSETTO:+0000
END:STANDARD
END:VTIMEZONE
BEGIN:VEVENT
UID:210-205
DTSTAMP:20260424T083233Z
SUMMARY:„Bin ich hochsensibel?“ interaktives Webinar (ausgebucht\, näc
 hster Termin am 12.11.)
LOCATION:
ORGANIZER;CN=arndt-praxis-18:MAILTO:a.b.arndt@web.de
DTSTART;TZID=Etc/GMT+0:20251001T180000
DTEND;TZID=Etc/GMT+0:20251001T193000
X-ALT-DESC;FMTTYPE=TEXT/HTML:Dieses interaktive Webinar ist für Anfänger 
 wie für Fortgeschrittene ausgelegt. Es enthält Informationen\, die Sie s
 o aufbereitet nicht in einem einzelnen Buch zu finden sind. Interdisziplin
 är zeige ich auf\, was Hochsensibilität ist\, wie wissenschaftlich diese
 s Temperamentsmerkmal wirklich ist\, woran ich Hochsensibilität erkenne\,
  womit sie verwechselt (!) werden kann\, womit sie meist zusammen auftritt
  (und eben&amp;hellip\;
CATEGORIES:General
URL;VALUE=URI:https://praxis-arndt-muenster.de/mc-events/bin-ich-hochsensib
 el-interaktives-webinar-ausgebucht-naechster-termin-am-12-11
METHOD:PUBLISH
END:VEVENT
END:VCALENDAR