BEGIN:VCALENDAR
VERSION:2.0
PRODID:spatie/icalendar-generator
DESCRIPTION:Veranstaltungen von Praxis Andrea Arndt
X-WR-CALDESC:Veranstaltungen von Praxis Andrea Arndt
REFRESH-INTERVAL;VALUE=DURATION:PT1440M
X-PUBLISHED-TTL:PT1440M
BEGIN:VTIMEZONE
TZID:Etc/GMT+0
BEGIN:STANDARD
DTSTART:20241019T180000Z
TZOFFSETFROM:+0000
TZOFFSETTO:+0000
END:STANDARD
END:VTIMEZONE
BEGIN:VTIMEZONE
TZID:UTC
BEGIN:STANDARD
DTSTART:20250727T181045Z
TZOFFSETFROM:+0000
TZOFFSETTO:+0000
END:STANDARD
END:VTIMEZONE
BEGIN:VEVENT
UID:197-192
DTSTAMP:20260423T181045Z
SUMMARY:\"Hochsensibilität und frühe Bindungsverletzung\"\, interaktives 
 Webinar
LOCATION:
ORGANIZER;CN=arndt-praxis-18:MAILTO:a.b.arndt@web.de
DTSTART;TZID=Etc/GMT+0:20250716T180000
DTEND;TZID=Etc/GMT+0:20250716T193000
X-ALT-DESC;FMTTYPE=TEXT/HTML:Bei frühen Bindungsverletzungen ist unser Ner
 vensystem stark in Mitleidenschaft gezogen worden. Es kann also schwierig 
 sein\, sich selbst zu regulieren\, d.h. u.a. seine Nerven zu beruhigen\, u
 m sich sicher zu fühlen. In diesem Webinar zeige ich Ihnen\, was Sie für
  ein gut reguliertes Nervensystem tun können\, wo die Grenzen der Selbsth
 ilfe liegen und was Sie&amp;hellip\;
CATEGORIES:General
URL;VALUE=URI:https://praxis-arndt-muenster.de/mc-events/hochsensibilitaet-
 und-fruehe-bindungsverletzung-interaktives-webinar-2
METHOD:PUBLISH
END:VEVENT
END:VCALENDAR