BEGIN:VCALENDAR
VERSION:2.0
PRODID:spatie/icalendar-generator
DESCRIPTION:Veranstaltungen von Praxis Andrea Arndt
X-WR-CALDESC:Veranstaltungen von Praxis Andrea Arndt
REFRESH-INTERVAL;VALUE=DURATION:PT1440M
X-PUBLISHED-TTL:PT1440M
BEGIN:VTIMEZONE
TZID:Etc/GMT+0
BEGIN:STANDARD
DTSTART:20241208T180000Z
TZOFFSETFROM:+0000
TZOFFSETTO:+0000
END:STANDARD
END:VTIMEZONE
BEGIN:VTIMEZONE
TZID:UTC
BEGIN:STANDARD
DTSTART:20250727T112209Z
TZOFFSETFROM:+0000
TZOFFSETTO:+0000
END:STANDARD
END:VTIMEZONE
BEGIN:VEVENT
UID:190-186
DTSTAMP:20260423T112209Z
SUMMARY:Online - Gesprächskreis \"HSP(+)  -  Die Höchstsensiblen\"
LOCATION:
ORGANIZER;CN=arndt-praxis-18:MAILTO:a.b.arndt@web.de
DTSTART;TZID=Etc/GMT+0:20250904T180000
DTEND;TZID=Etc/GMT+0:20250904T193000
X-ALT-DESC;FMTTYPE=TEXT/HTML:Online - Gesprächskreis: \"HSP(+)© - Die Hö
 chstsensiblen\" Empathen\, Hochsensitive\, HSP \"hoch X\"...Es existiert n
 och kein passender und allgemein anerkannter Ausdruck für diese besonders
  sensiblen Menschen unter den HSP. In diesem Gesprächskreis treffen sich 
 Menschen\, die u.a. auch im energetischen Bereich besondere Begabungen auf
 weisen. Unter den Highly sensitive Person (HSP) machen sie tatsächlich no
 cheinmal eine Minderheit&amp;hellip\;
CATEGORIES:General
URL;VALUE=URI:https://praxis-arndt-muenster.de/mc-events/online-gespraechsk
 reis-hsp-die-hoechstsensiblen-3
METHOD:PUBLISH
END:VEVENT
END:VCALENDAR