BEGIN:VCALENDAR
VERSION:2.0
PRODID:spatie/icalendar-generator
DESCRIPTION:Veranstaltungen von Praxis Andrea Arndt
X-WR-CALDESC:Veranstaltungen von Praxis Andrea Arndt
REFRESH-INTERVAL;VALUE=DURATION:PT1440M
X-PUBLISHED-TTL:PT1440M
BEGIN:VTIMEZONE
TZID:Etc/GMT+0
BEGIN:STANDARD
DTSTART:20250116T180000Z
TZOFFSETFROM:+0000
TZOFFSETTO:+0000
END:STANDARD
END:VTIMEZONE
BEGIN:VTIMEZONE
TZID:UTC
BEGIN:STANDARD
DTSTART:20250725T183310Z
TZOFFSETFROM:+0000
TZOFFSETTO:+0000
END:STANDARD
END:VTIMEZONE
BEGIN:VEVENT
UID:179-175
DTSTAMP:20260421T183310Z
SUMMARY:Coaching für Hochsensible - Gruppe A
LOCATION:
ORGANIZER;CN=arndt-praxis-18:MAILTO:a.b.arndt@web.de
DTSTART;TZID=Etc/GMT+0:20251013T180000
DTEND;TZID=Etc/GMT+0:20251013T193000
X-ALT-DESC;FMTTYPE=TEXT/HTML:Coaching für Hochsensible (HSP) - Gruppe A In
  einer kleinen Runde (höchsten 5 Teilnehmer!) schauen wir uns gemeinsam a
 n\, wie Sie sich den Alltag als \"High Sensitive Person\" (HSP) angenehmer
  gestalten können. Möchten Sie dabei sein? Die Inhalte sind auf jeden ei
 nzelnen Teilnehmer und seine Herausforderungen ausgerichtet. Jeder Teilneh
 mer kann unmittelbar vom Training\, den Ergebnissen&amp;hellip\;
CATEGORIES:General
URL;VALUE=URI:https://praxis-arndt-muenster.de/mc-events/coaching-fuer-hoch
 sensible-gruppe-a-5
METHOD:PUBLISH
END:VEVENT
END:VCALENDAR