BEGIN:VCALENDAR
VERSION:2.0
PRODID:spatie/icalendar-generator
DESCRIPTION:Veranstaltungen von Praxis Andrea Arndt
X-WR-CALDESC:Veranstaltungen von Praxis Andrea Arndt
REFRESH-INTERVAL;VALUE=DURATION:PT1440M
X-PUBLISHED-TTL:PT1440M
BEGIN:VTIMEZONE
TZID:Etc/GMT+0
BEGIN:STANDARD
DTSTART:20240926T180000Z
TZOFFSETFROM:+0000
TZOFFSETTO:+0000
END:STANDARD
END:VTIMEZONE
BEGIN:VTIMEZONE
TZID:UTC
BEGIN:STANDARD
DTSTART:20250725T212437Z
TZOFFSETFROM:+0000
TZOFFSETTO:+0000
END:STANDARD
END:VTIMEZONE
BEGIN:VEVENT
UID:151-149
DTSTAMP:20260421T212437Z
SUMMARY:Workshop \"Hochsensibilität und die besonderen Herausforderungen\"
  \, Praxis
LOCATION:
ORGANIZER;CN=arndt-praxis-18:MAILTO:a.b.arndt@web.de
DTSTART;TZID=Etc/GMT+0:20250623T180000
DTEND;TZID=Etc/GMT+0:20250623T193000
X-ALT-DESC;FMTTYPE=TEXT/HTML:Workshop \"Hochsensibilität und die besondere
 n Herausforderungen\" In diesem Workshop geht es um die besonderen Herausf
 orderungen als HSP: Themen sind u.a. Körperwahrnehmung\, Bedürfnisse und
  Grenzen setzen Teilnahmegebühr: 25 Euro Da die Teilnehmerzahl begrenzt i
 st\, bitte ich um eine Anmeldung Vielen Dank. (weitere Termine siehe Veran
 staltungskalender )
CATEGORIES:General
URL;VALUE=URI:https://praxis-arndt-muenster.de/mc-events/workshop-hochsensi
 bilitaet-und-die-besonderen-herausforderungen-praxis-6
METHOD:PUBLISH
END:VEVENT
END:VCALENDAR