BEGIN:VCALENDAR
VERSION:2.0
PRODID:spatie/icalendar-generator
DESCRIPTION:Veranstaltungen von Praxis Andrea Arndt
X-WR-CALDESC:Veranstaltungen von Praxis Andrea Arndt
REFRESH-INTERVAL;VALUE=DURATION:PT1440M
X-PUBLISHED-TTL:PT1440M
BEGIN:VTIMEZONE
TZID:Etc/GMT+0
BEGIN:STANDARD
DTSTART:20240823T180000Z
TZOFFSETFROM:+0000
TZOFFSETTO:+0000
END:STANDARD
END:VTIMEZONE
BEGIN:VTIMEZONE
TZID:UTC
BEGIN:STANDARD
DTSTART:20250725T110842Z
TZOFFSETFROM:+0000
TZOFFSETTO:+0000
END:STANDARD
END:VTIMEZONE
BEGIN:VEVENT
UID:141-139
DTSTAMP:20260421T110842Z
SUMMARY:Coaching - Gruppe B
LOCATION:
ORGANIZER;CN=arndt-praxis-18:MAILTO:a.b.arndt@web.de
DTSTART;TZID=Etc/GMT+0:20250520T180000
DTEND;TZID=Etc/GMT+0:20250520T193000
X-ALT-DESC;FMTTYPE=TEXT/HTML:Coaching für Hochsensible (HSP) In einer klei
 nen Runde (höchsten 6 Teilnehmer!) schauen wir uns gemeinsam an\, wie Sie
  sich den Alltag als \"High Sensitive Person\" (HSP) angenehmer gestalten 
 können. Ich gebe ganz individuelle Tipps\, zu den Themen Grenzsetzung\, B
 edürfnisse\, Regulation des Nervensystems und andere Herausforderungen f
 ür sehr feine Menschen. Möchten Sie dabei sein? Die Inhalte&amp;hellip\;
CATEGORIES:General
URL;VALUE=URI:https://praxis-arndt-muenster.de/mc-events/coaching-gruppe-b-
 5
METHOD:PUBLISH
END:VEVENT
END:VCALENDAR