BEGIN:VCALENDAR
VERSION:2.0
PRODID:spatie/icalendar-generator
DESCRIPTION:Veranstaltungen von Praxis Andrea Arndt
X-WR-CALDESC:Veranstaltungen von Praxis Andrea Arndt
REFRESH-INTERVAL;VALUE=DURATION:PT1440M
X-PUBLISHED-TTL:PT1440M
BEGIN:VTIMEZONE
TZID:Etc/GMT+0
BEGIN:STANDARD
DTSTART:20240727T180000Z
TZOFFSETFROM:+0000
TZOFFSETTO:+0000
END:STANDARD
END:VTIMEZONE
BEGIN:VTIMEZONE
TZID:UTC
BEGIN:STANDARD
DTSTART:20250725T200556Z
TZOFFSETFROM:+0000
TZOFFSETTO:+0000
END:STANDARD
END:VTIMEZONE
BEGIN:VEVENT
UID:135-133
DTSTAMP:20260421T200556Z
SUMMARY:Online - Coaching - Gruppe C  (nicht nur für HSP!)
LOCATION:
ORGANIZER;CN=arndt-praxis-18:MAILTO:a.b.arndt@web.de
DTSTART;TZID=Etc/GMT+0:20250423T180000
DTEND;TZID=Etc/GMT+0:20250423T193000
X-ALT-DESC;FMTTYPE=TEXT/HTML:Online - Coaching (nicht nur!) für Hochsensib
 le (HSP) In einer kleinen Runde (höchsten 6 Teilnehmer!) schauen wir uns 
 gemeinsam an\, wie Sie sich den Alltag (nicht nur) als \"High Sensitive Pe
 rson\" (HSP) angenehmer gestalten können. Ich gebe ganz individuelle Tipp
 s\, zu den Themen Grenzsetzung\, Bedürfnisse\, Regulation des Nervensyste
 ms und andere Herausforderungen für sehr feine Menschen.&amp;hellip\;
CATEGORIES:General
URL;VALUE=URI:https://praxis-arndt-muenster.de/mc-events/online-coaching-gr
 uppe-c-nicht-nur-fuer-hsp-2
METHOD:PUBLISH
END:VEVENT
END:VCALENDAR