BEGIN:VCALENDAR
VERSION:2.0
PRODID:-//Praxis Andrea Arndt - ECPv6.15.20//NONSGML v1.0//EN
CALSCALE:GREGORIAN
METHOD:PUBLISH
X-WR-CALNAME:Praxis Andrea Arndt
X-ORIGINAL-URL:https://praxis-arndt-muenster.de
X-WR-CALDESC:Veranstaltungen für Praxis Andrea Arndt
REFRESH-INTERVAL;VALUE=DURATION:PT1H
X-Robots-Tag:noindex
X-PUBLISHED-TTL:PT1H
BEGIN:VTIMEZONE
TZID:UTC
BEGIN:STANDARD
TZOFFSETFROM:+0000
TZOFFSETTO:+0000
TZNAME:UTC
DTSTART:20250101T000000
END:STANDARD
END:VTIMEZONE
BEGIN:VEVENT
DTSTART;TZID=UTC:20260422T193000
DTEND;TZID=UTC:20260422T210000
DTSTAMP:20260422T101729
CREATED:20260115T185847Z
LAST-MODIFIED:20260115T185847Z
UID:102289-1776886200-1776891600@praxis-arndt-muenster.de
SUMMARY:"Auch alte Wunden können heilen" - Online-Selbsthilfegruppe
DESCRIPTION:„Auch alte Wunden können heilen“ – Online-Selbsthilfegruppe \nIn einem liebevollen\, geschützten Rahmen lade ich Menschen ein\, die frühe Bindungsverletzungen\, ein Entwicklungstrauma oder belastende\, „toxische“ Beziehungen erlebt haben. Gemeinsam schaffen wir einen traumasensiblen Ort\, an dem Sicherheit spürbar werden darf – Sicherheit im Sinne von sich in sich selbst und sich auch mit anderen beschützt\, behütet und geborgen fühlen zu dürfen. \nWir erkunden\, wie heilsame Beziehungen aussehen können – zu uns selbst und zu anderen. Durch sanfte Übungen zur Selbstregulation\, zur Beruhigung des Nervensystems (u. a. mit Vagusnerv-orientierten Impulsen)\, durch Austausch in einer verständnisvollen Gruppe und durch professionelle Begleitung entsteht ein Raum\, in dem alte Muster sich lösen und neue Erfahrungen möglich werden können. \nDie Gruppe ist offen für Frauen und Männer jeden Alters.Wir treffen uns einmal im Monat online per Zoom. \nTeilnahmegebühr: 10 Euro pro Abend. \nWenn du spüren möchtest\, wie heilsam es sein kann\, mit anderen gemeinsam zu wachsen\, bist du herzlich willkommen. \nMit der Bitte um Anmeldung unten. \nNach Absenden des Formulars erhalten sie eine Teilnahmebestätigung mit allen notwendigen Informationen.  \nSollten Sie darüber hinaus noch Fragen haben\, melden Sie sich gerne bei mir. Die Kontaktdaten finden sie auf meiner Website.\n \nIch freue mich auf Sie… \n(weitere Termine siehe Veranstaltungskalender )\nBitte aktiviere JavaScript in deinem Browser\, um dieses Formular fertigzustellen.Bitte aktiviere JavaScript in deinem Browser\, um dieses Formular fertigzustellen.Name *VornameNachname		\n			erfahren? Name Wie\n			\n		\n		E-Mail-Adresse *VeranstaltungWie haben Sie von diesem Angebot erfahren?Social MediaNetzwerk HochsensibilitätPersönliche EmpfehlungAbsenden
URL:https://praxis-arndt-muenster.de/event/auch-alte-wunden-koennen-heilen-online-selbsthilfegruppe-3-2
CATEGORIES:Online,Selbsthilfegruppe
END:VEVENT
BEGIN:VEVENT
DTSTART;TZID=UTC:20260423T193000
DTEND;TZID=UTC:20260423T210000
DTSTAMP:20260422T101729
CREATED:20260117T104837Z
LAST-MODIFIED:20260312T200914Z
UID:102375-1776972600-1776978000@praxis-arndt-muenster.de
SUMMARY:"bewusstanders." - Stammtisch (online)
DESCRIPTION:„bewusstanders.“-  Stammtisch\n\nVielfalt feiern\, Tiefe teilen\, lebendig sein.\n\nCo-Creation mit Christopher Schnoor-Karius.\n\nKennst du das Gefühl\, dass du mehr wahrnimmst als andere?\nEnergie im Raum. Stimmungen zwischen den Worten. Die feinen Nuancen\, die „eigentlich niemand sieht“ – und die doch alles verändern.\n\nUnd kennst du gleichzeitig diese Sehnsucht nach einem Ort\, an dem du nicht erklären musst\, warum du so bist?\nWo dein „anders“ nicht repariert wird – sondern willkommen ist.\n\nDer bewusstanders.-Stammtisch ist ein Abend für Menschen\, die Vielfalt nicht nur im Kopf verstehen\, sondern im Körper leben: hochsensibel\, hochbegabt\, vielbegabt\, kreativ\, tief\, bunt\, still oder wild – und oft einfach… zu echt für Smalltalk.\n\nChristopher Schnoor-Karius öffnet gemeinsam mit mir einen Raum\, der sich leicht anfühlt und trotzdem trägt: mit Humor und Herz\, mit Tiefe ohne Drama\, mit Präsenz ohne Konzept.\n\nWas dich erwartet\n• Ankommen – ohne Maske\, ohne Rolle\, ohne „Wie geht’s? – Gut.“\n• Ein kurzer\, sanfter Start zum Landen (Körper\, Atem\, Wahrnehmung)\n• Ehrlicher Austausch – und gleichzeitig Raum für Leichtigkeit\, Lachen\, Lebendigkeit\n• Begegnungen\, die nicht ziehen\, sondern nähren\n• Dieses Gefühl\, dass deine Energie nicht „zu viel“ ist – sondern genau richtig\n\nWorum es im Kern geht\nUm Gemeinschaft. Um Resonanz. Um echtes Gesehenwerden.\nUnd um die Erinnerung: Du bist nicht falsch. Du bist fein eingestellt.\n\nFür wen\nFür alle\, die spüren\, dass ihr Anderssein keine Macke ist\, sondern eine Qualität – und die Lust haben\, sich in einem sicheren Rahmen zu zeigen. So viel oder so wenig\, wie es für dich stimmig ist.\n\nHinweis\nDer Stammtisch ist ein Begegnungs- und Austauschraum und ersetzt keine Therapie. Du kommst\, wie du bist – und gehst\, wie du gehst.\n\nDie Teilnahme ist kostenfrei.\nUm eine Spende über Paypal wird gebeten  unter: Kontakt@praxis-arndt-muenster.de \nMit der Bitte um Anmeldung unten. \nNach Absenden des Formulars erhalten Sie eine Teilnahmebestätigung mit allen notwendigen Informationen.  \nSollten Sie darüber hinaus noch Fragen haben\, melden Sie sich gerne bei mir. Die Kontaktdaten finden Sie auf meiner Website.\n \nWir freuen uns auf dich… \n(weitere Termine siehe Veranstaltungskalender )\nDie Teilnahme ist nur mit Bild und Ton möglich. \nWir bitten um eine kurze\, kostenfreie Kontaktaufnahme vor der ersten Teilnahme – gerne auch telefonisch. \nHier können Sie ein kurzes kostenfreies Telefongespräch zum Kennenlernen bei Christopher buchen: \nKurzes Kennenlerngespräch (15 Minuten) \nBitte aktiviere JavaScript in deinem Browser\, um dieses Formular fertigzustellen.Bitte aktiviere JavaScript in deinem Browser\, um dieses Formular fertigzustellen.Name *VornameNachnameE-Mail-Adresse *		\n			diesem E-Mail-Adresse von\n			\n		\n		VeranstaltungWie haben Sie von diesem Angebot erfahren?Social MediaNetzwerk HochsensibilitätPersönliche EmpfehlungAbsenden
URL:https://praxis-arndt-muenster.de/event/bewusstanders-stammtisch-wieder-da-2-2-2
CATEGORIES:kostenfrei,Online
END:VEVENT
BEGIN:VEVENT
DTSTART;TZID=UTC:20260424T193000
DTEND;TZID=UTC:20260424T210000
DTSTAMP:20260422T101729
CREATED:20260115T111704Z
LAST-MODIFIED:20260313T081643Z
UID:102228-1777059000-1777064400@praxis-arndt-muenster.de
SUMMARY:Webinar "Seelenbeziehungen"
DESCRIPTION:Seelenbeziehungen – wenn Beziehungen tief berühren und verändern\nEinige Menschen erleben Beziehungen\, die sie als außergewöhnlich intensiv empfinden: starke Anziehung\, tiefe Verbundenheit\, emotionale Höhen und Tiefen – oft verbunden mit inneren Krisen\, alten Verletzungen und tiefgreifenden Veränderungen. Solche Erfahrungen werden häufig als Dualseelen- oder Zwillingsseelenbeziehungen beschrieben. \nDoch was steckt aus psychologischer Sicht hinter diesen Phänomenen? \nDiese Veranstaltung bietet eine verständliche\, wissenschaftlich orientierte Einordnung des Themas. Dabei wird gezeigt\, dass sich solche intensiven Beziehungen nicht nur wie mystische Phänomene anfühlen\, sondern auch mit gut erforschten psychologischen Prozessen zusammenhängen. Unter anderem werden folgende Fragen beleuchtet: \n\nWarum fühlen sich manche Beziehungen so außergewöhnlich „schicksalhaft“ an?\nWelche Rolle spielen unbewusste Bindungsmuster\, Projektionen und innere Anteile?\nWarum können diese Beziehungen so heilsam – und zugleich so schmerzhaft – sein?\nWas bedeutet es\, wenn wir sagen\, dass diese Beziehungen zur „Transformation“ führen? Was ist das genau?\n\nEin zentraler Schwerpunkt liegt auf der klaren Unterscheidung zwischen entwicklungsfördernden Seelenbeziehungen und toxischen Beziehungsmustern. Nicht jede intensive Beziehung ist gesund oder heilend. Es wird leicht verständlich aufgezeigt\, \n\nworan konstruktive Transformationsprozesse erkennbar sind\nund wann emotionale Abhängigkeit\, Grenzverletzungen oder destruktive Dynamiken vorliegen\n\nAbschließend werden praktische Impulse zur Bewältigung gegeben: \n\nfür Menschen\, die sich aktuell in einer solchen Beziehung befinden\nfür diejenigen\, die eine solche Verbindung loslassen oder verarbeiten möchten\nsowie für Paare\, die bewusst an ihren Beziehungsmustern arbeiten wollen\n\nDie Veranstaltung richtet sich an interessierte Laien\, Betroffene sowie Fachpersonen\, die einen klaren\, bodenständigen und psychologisch fundierten Zugang zu einem oft missverstandenen aber doch so alten Thema aus vielen Traditionen suchen. \nTeilnahmegebühr: 25 Euro \nMit der Bitte um Anmeldung unten.  \nNach Absenden des Formulars erhalten sie eine Teilnahmebestätigung mit allen notwendigen Informationen.  \nSollten Sie darüber hinaus noch Fragen haben\, melden Sie sich gerne bei mir. Die Kontaktdaten finden sie auf meiner Website.\n \nIch freue mich auf Sie… \n(weitere Termine siehe Veranstaltungskalender )\nBitte aktiviere JavaScript in deinem Browser\, um dieses Formular fertigzustellen.Bitte aktiviere JavaScript in deinem Browser\, um dieses Formular fertigzustellen.		\n			erfahren? Name Veranstaltung\n			\n		\n		Name *VornameNachnameE-Mail-Adresse *VeranstaltungWie haben Sie von diesem Angebot erfahren?Social MediaNetzwerk HochsensibilitätPersönliche EmpfehlungAbsenden
URL:https://praxis-arndt-muenster.de/event/webinar-seelenbeziehungen-2-2
CATEGORIES:Online,Webinar
END:VEVENT
BEGIN:VEVENT
DTSTART;TZID=UTC:20260427T180000
DTEND;TZID=UTC:20260427T193000
DTSTAMP:20260422T101729
CREATED:20260404T085257Z
LAST-MODIFIED:20260404T093423Z
UID:102679-1777312800-1777318200@praxis-arndt-muenster.de
SUMMARY:Online - Gesprächskreis "HSP+" - Die Höchstsensiblen (Gruppe I) keine Plätze mehr verfügbar\, kommen Sie gerne noch in die Gruppe II
DESCRIPTION:Online – Gesprächskreis: „HSP(+)© – Die Höchstsensiblen“\nEmpathen\, Hochsensitive\, HSP „hoch X“…Es existiert noch kein passender und allgemein anerkannter Ausdruck für diese besonders sensiblen Menschen unter den HSP. In diesem Gesprächskreis treffen sich Menschen\, die u.a. auch im energetischen Bereich besondere Begabungen aufweisen. \nUnter den Highly sensitive Person (HSP) machen sie tatsächlich nocheinmal eine Minderheit aus. Schätzungen gehen davon aus\, dass es höchstens 3 % unter den HSP sind\, die höchstsensibel sind. Ich arbeite seit vielen Jahren mit diesen Menschen und ich nenne sie „HSP(+)©„. \nOft fühlen sie sich sehr allein\, da nur wenige ihre Wahrnehmungen nachvollziehen können. Dieser Gesprächskreis dient dazu\, diese energetisch besonders begabten HSP zusammenzubringen\, damit sie erfahren dürfen\, dass sie nicht allein sind mit ihren sehr außergewöhnlichen Fähigkeiten\, die so wenige Menschen verstehen\, aber von denen alle Menschen profitieren könn(t)en… \n(14tägig moderierte Veranstaltung per Zoom)  \nDie Teilnahme ist kostenfrei. Um eine Spende über Paypal wird gebeten (Kontakt@praxis-arndt-muenster.de) \n(Ich bitte um eine kurze\, kostenfreie Kontaktaufnahme vor der ersten Teilnahme. Gerne auch telefonisch) \nMit der Bitte um Anmeldung unten. \nNach Absenden des Formulars erhalten sie eine Teilnahmebestätigung mit allen notwendigen Informationen.  \nSollten Sie darüber hinaus noch Fragen haben\, melden Sie sich gerne bei mir. Die Kontaktdaten finden sie auf meiner Website.\n \nIch freue mich auf Sie… \nfinden Sie weitere Termine hier im Veranstaltungskalender \nIch bitte um eine kurze\, kostenfreie Kontaktaufnahme vor der ersten Teilnahme – gerne auch telefonisch. \nHier können Sie ein kurzes kostenfreies Telefongespräch zum Kennenlernen buchen: \nKurzes Kennenlerngespräch (15 Minuten) \nBitte aktiviere JavaScript in deinem Browser\, um dieses Formular fertigzustellen.Bitte aktiviere JavaScript in deinem Browser\, um dieses Formular fertigzustellen.Name *VornameNachname		\n			diesem haben Veranstaltung\n			\n		\n		E-Mail-Adresse *VeranstaltungWie haben Sie von diesem Angebot erfahren?Social MediaNetzwerk HochsensibilitätPersönliche EmpfehlungAbsenden
URL:https://praxis-arndt-muenster.de/event/online-gespraechskreis-hsp-die-hoechstsensiblen-2-2-2-3-2
CATEGORIES:kostenfrei,Online,Online - Gesprächskreis
END:VEVENT
END:VCALENDAR