BEGIN:VCALENDAR
VERSION:2.0
PRODID:-//Praxis Andrea Arndt - ECPv6.15.20//NONSGML v1.0//EN
CALSCALE:GREGORIAN
METHOD:PUBLISH
X-WR-CALNAME:Praxis Andrea Arndt
X-ORIGINAL-URL:https://praxis-arndt-muenster.de
X-WR-CALDESC:Veranstaltungen für Praxis Andrea Arndt
REFRESH-INTERVAL;VALUE=DURATION:PT1H
X-Robots-Tag:noindex
X-PUBLISHED-TTL:PT1H
BEGIN:VTIMEZONE
TZID:UTC
BEGIN:STANDARD
TZOFFSETFROM:+0000
TZOFFSETTO:+0000
TZNAME:UTC
DTSTART:20250101T000000
END:STANDARD
END:VTIMEZONE
BEGIN:VEVENT
DTSTART;TZID=UTC:20260601T193000
DTEND;TZID=UTC:20260601T210000
DTSTAMP:20260423T103350
CREATED:20260115T091407Z
LAST-MODIFIED:20260115T091536Z
UID:102059-1780342200-1780347600@praxis-arndt-muenster.de
SUMMARY:Gesprächskreis HSP\, offene Gesprächsrunde\, Praxis
DESCRIPTION:Gesprächskreis für Hochsensible (HSP)\n  \nDieser Gesprächskreis richtet sich an Menschen\, die sich als hochsensibel erleben und sich einen geschützten Rahmen wünschen\, um über ihre Erfahrungen zu sprechen. Hochsensibilität kann eine besondere Stärke sein – und zugleich herausfordernd. In dieser Gruppe finden Sie Verständnis\, Resonanz und Raum für persönliche Themen. \nGemeinsam tauschen wir uns darüber aus\, wie es ist\, als HSP zu leben: \n• Welche Alltagssituationen fordern mich besonders heraus?• Welche Ressourcen und Stärken bringen hochsensible Menschen mit?• Welche Strategien können helfen\, sich im eigenen Tempo und mit den eigenen Grenzen zu bewegen? \nDer Abend bietet die Möglichkeit\, sich mit anderen auszutauschen\, die ähnliche Erfahrungen machen. \nIch moderiere die Gruppe\, sorge einen sicheren Rahmen und stehe für Fragen zur Verfügung. Gleichzeitig bleibt viel Raum für individuelle Anliegen und gemeinsames Wachsen. \nIch freue mich darauf\, Sie in diesem geschützten Raum zu begrüßen und gemeinsam einen wertvollen Austausch zu ermöglichen. \nMonatlich moderierte Veranstaltung in meiner Praxis. \nKeine Teilnahmegebühr. Um eine Spende wird gebeten. \nMit der Bitte um Anmeldung unten  \nNach Absenden des Formulars erhalten sie eine Teilnahmebestätigung mit allen notwendigen Informationen.  \nSollten Sie darüber hinaus noch Fragen haben\, melden Sie sich gerne bei mir. Die Kontaktdaten finden sie auf meiner Website.\n\n(weitere Termine siehe Veranstaltungskalender ) \nBitte aktiviere JavaScript in deinem Browser\, um dieses Formular fertigzustellen.Bitte aktiviere JavaScript in deinem Browser\, um dieses Formular fertigzustellen.Name *VornameNachname		\n			Sie diesem Wie\n			\n		\n		E-Mail-Adresse *VeranstaltungWie haben Sie von diesem Angebot erfahren?Social MediaNetzwerk HochsensibilitätPersönliche EmpfehlungAbsenden
URL:https://praxis-arndt-muenster.de/event/102024-4-2-2
CATEGORIES:Gesprächskreis,in der Praxis,kostenfrei
END:VEVENT
END:VCALENDAR