BEGIN:VCALENDAR
VERSION:2.0
PRODID:-//Praxis Andrea Arndt - ECPv6.15.20//NONSGML v1.0//EN
CALSCALE:GREGORIAN
METHOD:PUBLISH
X-ORIGINAL-URL:https://praxis-arndt-muenster.de
X-WR-CALDESC:Veranstaltungen für Praxis Andrea Arndt
REFRESH-INTERVAL;VALUE=DURATION:PT1H
X-Robots-Tag:noindex
X-PUBLISHED-TTL:PT1H
BEGIN:VTIMEZONE
TZID:UTC
BEGIN:STANDARD
TZOFFSETFROM:+0000
TZOFFSETTO:+0000
TZNAME:UTC
DTSTART:20250101T000000
END:STANDARD
END:VTIMEZONE
BEGIN:VEVENT
DTSTART;TZID=UTC:20260413T173000
DTEND;TZID=UTC:20260413T190000
DTSTAMP:20260422T114810
CREATED:20260404T085009Z
LAST-MODIFIED:20260404T093608Z
UID:102675-1776101400-1776106800@praxis-arndt-muenster.de
SUMMARY:Online - Gesprächskreis "HSP+" - Die Höchstsensiblen (Gruppe I) keine Plätze mehr verfügbar\, kommen Sie gerne noch in die Gruppe II
DESCRIPTION:Online – Gesprächskreis: „HSP(+)© – Die Höchstsensiblen“\nEmpathen\, Hochsensitive\, HSP „hoch X“…Es existiert noch kein passender und allgemein anerkannter Ausdruck für diese besonders sensiblen Menschen unter den HSP. In diesem Gesprächskreis treffen sich Menschen\, die u.a. auch im energetischen Bereich besondere Begabungen aufweisen. \nUnter den Highly sensitive Person (HSP) machen sie tatsächlich nocheinmal eine Minderheit aus. Schätzungen gehen davon aus\, dass es höchstens 3 % unter den HSP sind\, die höchstsensibel sind. Ich arbeite seit vielen Jahren mit diesen Menschen und ich nenne sie „HSP(+)©„. \nOft fühlen sie sich sehr allein\, da nur wenige ihre Wahrnehmungen nachvollziehen können. Dieser Gesprächskreis dient dazu\, diese energetisch besonders begabten HSP zusammenzubringen\, damit sie erfahren dürfen\, dass sie nicht allein sind mit ihren sehr außergewöhnlichen Fähigkeiten\, die so wenige Menschen verstehen\, aber von denen alle Menschen profitieren könn(t)en… \n(monatlich moderierte Veranstaltung per Zoom)  \nDie Teilnahme ist kostenfrei. Um eine Spende über Paypal wird gebeten (Kontakt@praxis-arndt-muenster.de) \n(Ich bitte um eine kurze\, kostenfreie Kontaktaufnahme vor der ersten Teilnahme. Gerne auch telefonisch) \nMit der Bitte um Anmeldung unten. \nNach Absenden des Formulars erhalten sie eine Teilnahmebestätigung mit allen notwendigen Informationen.  \nSollten Sie darüber hinaus noch Fragen haben\, melden Sie sich gerne bei mir. Die Kontaktdaten finden sie auf meiner Website.\n \nIch freue mich auf Sie… \nfinden Sie weitere Termine hier im Veranstaltungskalender \nIch bitte um eine kurze\, kostenfreie Kontaktaufnahme vor der ersten Teilnahme – gerne auch telefonisch. \nHier können Sie ein kurzes kostenfreies Telefongespräch zum Kennenlernen buchen: \nKurzes Kennenlerngespräch (15 Minuten) \nBitte aktiviere JavaScript in deinem Browser\, um dieses Formular fertigzustellen.Bitte aktiviere JavaScript in deinem Browser\, um dieses Formular fertigzustellen.Name *VornameNachnameE-Mail-Adresse *Veranstaltung		\n			diesem haben Sie\n			\n		\n		Wie haben Sie von diesem Angebot erfahren?Social MediaNetzwerk HochsensibilitätPersönliche EmpfehlungAbsenden
URL:https://praxis-arndt-muenster.de/event/online-gespraechskreis-hsp-die-hoechstsensiblen-2-2-2-3
CATEGORIES:kostenfrei,Online,Online - Gesprächskreis
END:VEVENT
BEGIN:VEVENT
DTSTART;TZID=UTC:20260413T193000
DTEND;TZID=UTC:20260413T210000
DTSTAMP:20260422T114810
CREATED:20260115T103434Z
LAST-MODIFIED:20260115T103434Z
UID:102166-1776108600-1776114000@praxis-arndt-muenster.de
SUMMARY:Webinar "Hochsensibilität und frühe Bindungsverletzung"
DESCRIPTION:„Hochsensibilität und frühe Bindungsverletzung“ – interaktives Webinar\nHochsensibilität\, Hypervigilanz und frühe Bindungsverletzungen – eine traumasensible Einordnung \nFrühe Bindungsverletzungen greifen tief in die Entwicklung unseres Nervensystems ein. Wenn Sicherheit\, emotionale Resonanz oder Verlässlichkeit in frühen Beziehungen gefehlt haben\, bleibt das Nervensystem häufig in einem Zustand erhöhter Alarmbereitschaft oder gleitet immer wieder in Rückzug\, Erschöpfung oder innere Leere. Die Fähigkeit\, sich selbst zu beruhigen und sich innerlich sicher zu fühlen\, ist dann oft eingeschränkt. \nIn diesem interaktiven Webinar widmen wir uns der differenzierten Betrachtung von Hochsensibilität\, Hypervigilanz und Entwicklungstrauma. Ein besonderer Fokus liegt auf der Abgrenzung zwischen angeborener Sensitivität und stress- bzw. traumaassoziierten Regulationsmustern – etwa einem dauerhaften „Zu-viel“ an innerer Anspannung oder einem „Zu-wenig“ an Energie\, Kontakt und Lebendigkeit.\nDabei geht es nicht um Pathologisierung\, sondern um Verstehen\, Einordnen und Entlastung. \nDas Webinar richtet sich sowohl an Menschen mit eigenen Erfahrungen früher Bindungsverletzungen als auch an alle Interessierte\, die ihre traumasensible Perspektive vertiefen möchten. \nThemen u. a.: \n\nFrühe Bindungsverletzungen – bewusste und vorbewusste Erfahrungen\nEntwicklungstrauma und seine Auswirkungen auf das Nervensystem\nHochsensibilität und Trauma: Überschneidungen und klare Unterscheidung\nAnhaltende Übererregung\, innere Alarmzustände und Rückzugsreaktionen im Alltag\nLangfristige Auswirkungen früher Bindungsverletzungen auf Beziehungen\nMöglichkeiten der Selbstregulation – und die Grenzen von Selbsthilfe\nWas heute unterstützt\, um mehr innere Sicherheit und Stabilität zu entwickeln\n\nDas Webinar ist interaktiv gestaltet und beinhaltet praktische Übungen zur Selbsterfahrung sowie Raum für persönliche Fragen. \nTeilnahmegebühr: 25 Euro\nMit der Bitte um Anmeldung unten. \nNach Absenden des Formulars erhalten sie eine Teilnahmebestätigung mit allen notwendigen Informationen.  \nSollten Sie darüber hinaus noch Fragen haben\, melden Sie sich gerne bei mir. Die Kontaktdaten finden sie auf meiner Website.\n \nIch freue mich auf Sie… \n(weitere Termine siehe Veranstaltungskalender )\nBitte aktiviere JavaScript in deinem Browser\, um dieses Formular fertigzustellen.Bitte aktiviere JavaScript in deinem Browser\, um dieses Formular fertigzustellen.		\n			E-Mail-Adresse Veranstaltung Angebot\n			\n		\n		Name *VornameNachnameE-Mail-Adresse *VeranstaltungWie haben Sie von diesem Angebot erfahren?Social MediaNetzwerk HochsensibilitätPersönliche EmpfehlungAbsenden
URL:https://praxis-arndt-muenster.de/event/webinar-hochsensibilitaet-und-fruehe-bindungsverletzung-2-2-2
CATEGORIES:Online,Webinar
END:VEVENT
END:VCALENDAR