BEGIN:VCALENDAR
VERSION:2.0
PRODID:-//Praxis Andrea Arndt - ECPv6.15.20//NONSGML v1.0//EN
CALSCALE:GREGORIAN
METHOD:PUBLISH
X-WR-CALNAME:Praxis Andrea Arndt
X-ORIGINAL-URL:https://praxis-arndt-muenster.de
X-WR-CALDESC:Veranstaltungen für Praxis Andrea Arndt
REFRESH-INTERVAL;VALUE=DURATION:PT1H
X-Robots-Tag:noindex
X-PUBLISHED-TTL:PT1H
BEGIN:VTIMEZONE
TZID:UTC
BEGIN:STANDARD
TZOFFSETFROM:+0000
TZOFFSETTO:+0000
TZNAME:UTC
DTSTART:20250101T000000
END:STANDARD
END:VTIMEZONE
BEGIN:VEVENT
DTSTART;TZID=UTC:20260402T193000
DTEND;TZID=UTC:20260402T210000
DTSTAMP:20260422T115500
CREATED:20260115T110741Z
LAST-MODIFIED:20260404T085524Z
UID:102213-1775158200-1775163600@praxis-arndt-muenster.de
SUMMARY:Online - Gesprächskreis "HSP+" - Die Höchstsensiblen (Gruppe II)
DESCRIPTION:Online – Gesprächskreis: „HSP(+)© – Die Höchstsensiblen“\nEmpathen\, Hochsensitive\, HSP „hoch X“…Es existiert noch kein passender und allgemein anerkannter Ausdruck für diese besonders sensiblen Menschen unter den HSP. In diesem Gesprächskreis treffen sich Menschen\, die u.a. auch im energetischen Bereich besondere Begabungen aufweisen. \nUnter den Highly sensitive Person (HSP) machen sie tatsächlich nocheinmal eine Minderheit aus. Schätzungen gehen davon aus\, dass es höchstens 3 % unter den HSP sind\, die höchstsensibel sind. Ich arbeite seit vielen Jahren mit diesen Menschen und ich nenne sie „HSP(+)©„. \nOft fühlen sie sich sehr allein\, da nur wenige ihre Wahrnehmungen nachvollziehen können. Dieser Gesprächskreis dient dazu\, diese energetisch besonders begabten HSP zusammenzubringen\, damit sie erfahren dürfen\, dass sie nicht allein sind mit ihren sehr außergewöhnlichen Fähigkeiten\, die so wenige Menschen verstehen\, aber von denen alle Menschen profitieren könn(t)en… \n(monatlich moderierte Veranstaltung per Zoom)  \nDie Teilnahme ist kostenfrei. Um eine Spende über Paypal wird gebeten (Kontakt@praxis-arndt-muenster.de) \n(Ich bitte um eine kurze\, kostenfreie Kontaktaufnahme vor der ersten Teilnahme. Gerne auch telefonisch) \nMit der Bitte um Anmeldung unten. \nNach Absenden des Formulars erhalten sie eine Teilnahmebestätigung mit allen notwendigen Informationen.  \nSollten Sie darüber hinaus noch Fragen haben\, melden Sie sich gerne bei mir. Die Kontaktdaten finden sie auf meiner Website.\n \nIch freue mich auf Sie… \nfinden Sie weitere Termine hier im Veranstaltungskalender \nIch bitte um eine kurze\, kostenfreie Kontaktaufnahme vor der ersten Teilnahme – gerne auch telefonisch. \nHier können Sie ein kurzes kostenfreies Telefongespräch zum Kennenlernen buchen: \nKurzes Kennenlerngespräch (15 Minuten) \nBitte aktiviere JavaScript in deinem Browser\, um dieses Formular fertigzustellen.Bitte aktiviere JavaScript in deinem Browser\, um dieses Formular fertigzustellen.Name *VornameNachname		\n			Sie E-Mail-Adresse Veranstaltung\n			\n		\n		E-Mail-Adresse *VeranstaltungWie haben Sie von diesem Angebot erfahren?Social MediaNetzwerk HochsensibilitätPersönliche EmpfehlungAbsenden
URL:https://praxis-arndt-muenster.de/event/online-gespraechskreis-hsp-die-hoechstsensiblen-2-2-2-2
CATEGORIES:kostenfrei,Online,Online - Gesprächskreis
END:VEVENT
END:VCALENDAR