BEGIN:VCALENDAR
VERSION:2.0
PRODID:-//Praxis Andrea Arndt - ECPv6.15.20//NONSGML v1.0//EN
CALSCALE:GREGORIAN
METHOD:PUBLISH
X-ORIGINAL-URL:https://praxis-arndt-muenster.de
X-WR-CALDESC:Veranstaltungen für Praxis Andrea Arndt
REFRESH-INTERVAL;VALUE=DURATION:PT1H
X-Robots-Tag:noindex
X-PUBLISHED-TTL:PT1H
BEGIN:VTIMEZONE
TZID:UTC
BEGIN:STANDARD
TZOFFSETFROM:+0000
TZOFFSETTO:+0000
TZNAME:UTC
DTSTART:20250101T000000
END:STANDARD
END:VTIMEZONE
BEGIN:VEVENT
DTSTART;TZID=UTC:20260318T193000
DTEND;TZID=UTC:20260318T210000
DTSTAMP:20260423T071021
CREATED:20260117T102652Z
LAST-MODIFIED:20260204T170829Z
UID:102344-1773862200-1773867600@praxis-arndt-muenster.de
SUMMARY:Online - Workshop "Hochsensibilität und Trauma" - Modul II
DESCRIPTION:Modul II: Nervensystem und Selbstregulation (nicht nur für Hochsensible)\nTauchen Sie ein in die faszinierende Welt des Nervensystems und lernen Sie\, wie Hochsensibilität und frühkindliche Erfahrungen unsere Reaktionen beeinflussen. In diesem interaktiven Online-Modul erfahren Sie\, wie Sie Ihr autonomes Nervensystem besser verstehen und gezielt Selbstregulationsstrategien entwickeln können. (vertiefende Informationen finden Sie unter Modul I) \nInhalte & Schwerpunkte: \n\nEinführung in die Polyvagal-Theorie und traumasensible Selbstregulation\nGrundlagen des autonomen Nervensystems: Sympathikus\, Parasympathikus\, Fight/Flight/Freeze/Shutdown\nHochsensibilität & Übererregung: warum sensible Menschen schneller überlastet sind\nTrauma & Nervensystem: Dauerstress\, Stress-Toleranzfenster\, Trigger vs. reale Gefahr\nPraktische Selbstregulationsübungen – sanft und traumasensibel\nThematisierung von Bindungsverletzung und Austausch in kleinen Gruppen\n\nZiele des Moduls: \n\nZusammenhänge zwischen Hochsensibilität\, Nervensystem und Trauma verstehen\nSelbstmitgefühl stärken und Selbstabwertung reduzieren\nEigene Bindungsverletzung erkennen und einordnen\nAlltagsnahe Strategien zur Selbstregulation kennenlernen und anwenden\n\nDieses Online-Modul verbindet fachliche Tiefe mit praktischen Übungen – für mehr Sicherheit im Körper\, Gelassenheit im Alltag und ein besseres Verständnis Ihrer eigenen Sensibilität. \nTeilnahmegebühr: 25 Euro \nMit der Bitte um Anmeldung unten. \nNach Absenden des Formulars erhalten Sie eine Teilnahmebestätigung mit allen notwendigen Informationen.  \nSollten Sie darüber hinaus noch Fragen haben\, melden Sie sich gerne bei mir. Die Kontaktdaten finden Sie auf meiner Website.\n \nIch freue mich auf Sie… \n(weitere Termine siehe Veranstaltungskalender )\nBitte aktiviere JavaScript in deinem Browser\, um dieses Formular fertigzustellen.Bitte aktiviere JavaScript in deinem Browser\, um dieses Formular fertigzustellen.Name *VornameNachnameE-Mail-Adresse *Veranstaltung		\n			haben E-Mail-Adresse erfahren?\n			\n		\n		Wie haben Sie von diesem Angebot erfahren?Social MediaNetzwerk HochsensibilitätPersönliche EmpfehlungAbsenden
URL:https://praxis-arndt-muenster.de/event/workshop-hochsensibilitaet-und-trauma-modul-ii-2
CATEGORIES:Online,Workshop
END:VEVENT
END:VCALENDAR